BEGIN:VCALENDAR
VERSION:2.0
PRODID:-//ExpressionEngine Easy iCalendar plugin//NONSGML v2.0.0//EN
X-WR-TIMEZONE:America/New_York
X-WR-CALNAME:Upcoming Auctions
BEGIN:VEVENT
UID:160797
DTSTAMP:20260430T100000
DTSTART:20260430T100000
DTEND:20260507T100000
SUMMARY:Online Only: Watkins Home Contents Auction
LOCATION:1732 Watkins Dr\, Toledo\, OH 43614\, US
DESCRIPTION:Home Contents Auction ONLINE ONLY AUCTION — STARTS CLOSING
 : THURS.\, MAY. 7th\, 2026 @ 10:00 AM (2 Lots Per Minute) Lo
 cation: 1732 Watkins Dr\, Toledo\, OH 43614 Home Contents Auc
 tion This auction features a wide mix of tools\, household i
 tems\, and vintage collectibles. Air compressors\, mowers\, sno
 wblowers\, and power tools including a table saw\, band saw\, d
 rill press\, and more\, along with a McCulloch boat motor. Hom
 e contents include a vintage Kenmore gas stove\, gun cabinet\,
  furniture\, office supplies\, rustic home décor\, and more. A
  unique selection of collectibles is also available\, includi
 ng runner sleds\, Underwood and Remington typewriters\, vintag
 e electronics\, a regulator wall clock\, and extensive VHS and
  book collections\, plus more. Browse the catalog today to vi
 ew all items available for bidding!   Presale Inspection:
 TUES.\, MAY 5TH\, 4:00–6:00 PM. Pick-up: SAT.\, MAY 9TH\, 10
 :00 AM–2:00 PM Note: All items must be picked up by Satur
 day\, May 9th\, at 2:00 PM\, unless prior arrangements have bee
 n made with the auctioneer. Any remaining items will be cons
 idered abandoned. A paid printed receipt is required for pic
 k-up. Buyers are responsible for bringing boxes and sufficie
 nt help for heavy or bulky items. Please note that some lots
  will require at least two able-bodied individuals to move s
 afely.    REGISTRATION & BIDDING SITE: bid.ethosauction.c
 om   REGISTRATION:  To register to bid\, click the “Bid 
 Online Now!” button. On the auction page\, click “Regis
 ter to Bid” and create a new account. Be sure to read the
  auction terms and complete the questionnaire at the end of 
 registration. If the questionnaire isn’t filled out\, your
  registration will be rejected. You’ll also be asked to en
 ter a credit card during registration. Please note that our 
 system will ping your card as a verification step to confirm
  its validity. No funds will be charged or withdrawn. Having
  trouble registering? Contact us at ethosauction@gmail.com .
  ETHOS AUCTION LLC 9236 Blue Mirage Dr Sylvania\, OH 43560  
 (419) 636-5500 Auctioneers: David Breitigam & William Breit
 igam
URL:https://www.ethosauction.com/auctions/detail/bw160797
SEQUENCE:1
END:VEVENT
END:VCALENDAR